BEGIN:VCALENDAR
VERSION:2.0
PRODID:-//We R Nuts - ECPv6.15.20//NONSGML v1.0//EN
CALSCALE:GREGORIAN
METHOD:PUBLISH
X-ORIGINAL-URL:https://wernutsny.com
X-WR-CALDESC:Events for We R Nuts
REFRESH-INTERVAL;VALUE=DURATION:PT1H
X-Robots-Tag:noindex
X-PUBLISHED-TTL:PT1H
BEGIN:VTIMEZONE
TZID:America/New_York
BEGIN:DAYLIGHT
TZOFFSETFROM:-0500
TZOFFSETTO:-0400
TZNAME:EDT
DTSTART:20240310T070000
END:DAYLIGHT
BEGIN:STANDARD
TZOFFSETFROM:-0400
TZOFFSETTO:-0500
TZNAME:EST
DTSTART:20241103T060000
END:STANDARD
BEGIN:DAYLIGHT
TZOFFSETFROM:-0500
TZOFFSETTO:-0400
TZNAME:EDT
DTSTART:20250309T070000
END:DAYLIGHT
BEGIN:STANDARD
TZOFFSETFROM:-0400
TZOFFSETTO:-0500
TZNAME:EST
DTSTART:20251102T060000
END:STANDARD
BEGIN:DAYLIGHT
TZOFFSETFROM:-0500
TZOFFSETTO:-0400
TZNAME:EDT
DTSTART:20260308T070000
END:DAYLIGHT
BEGIN:STANDARD
TZOFFSETFROM:-0400
TZOFFSETTO:-0500
TZNAME:EST
DTSTART:20261101T060000
END:STANDARD
END:VTIMEZONE
BEGIN:VEVENT
DTSTART;TZID=America/New_York:20251205T170000
DTEND;TZID=America/New_York:20251205T220000
DTSTAMP:20260423T082356
CREATED:20251001T143803Z
LAST-MODIFIED:20251001T143803Z
UID:11185-1764954000-1764972000@wernutsny.com
SUMMARY:Fairgrounds Festival Of Lights - Hamburg Event Center
DESCRIPTION:
URL:https://wernutsny.com/event/fairgrounds-festival-of-lights-hamburg-event-center-4/
LOCATION:Hamburg Fairgrounds\, The Event Center\, 5820 South Park Avenue\, Hamburg\, NY\, 14075\, United States
CATEGORIES:Local Event
END:VEVENT
BEGIN:VEVENT
DTSTART;TZID=America/New_York:20251206T170000
DTEND;TZID=America/New_York:20251206T220000
DTSTAMP:20260423T082356
CREATED:20251001T144050Z
LAST-MODIFIED:20251001T144050Z
UID:11187-1765040400-1765058400@wernutsny.com
SUMMARY:Fairgrounds Festival Of Lights - Hamburg Event Center
DESCRIPTION:
URL:https://wernutsny.com/event/fairgrounds-festival-of-lights-hamburg-event-center-5/
LOCATION:Hamburg Fairgrounds\, The Event Center\, 5820 South Park Avenue\, Hamburg\, NY\, 14075\, United States
CATEGORIES:Local Event
END:VEVENT
BEGIN:VEVENT
DTSTART;TZID=America/New_York:20251207T170000
DTEND;TZID=America/New_York:20251207T220000
DTSTAMP:20260423T082356
CREATED:20251003T230309Z
LAST-MODIFIED:20251003T230309Z
UID:11205-1765126800-1765144800@wernutsny.com
SUMMARY:Fairgrounds Festival of Lights - Hamburg Event Center
DESCRIPTION:
URL:https://wernutsny.com/event/fairgrounds-festival-of-lights-hamburg-event-center-6/
LOCATION:Hamburg Fairgrounds\, 5600 Mckinley Parkway\, Hamburg\, NY\, 14075\, United States
CATEGORIES:Local Event
END:VEVENT
BEGIN:VEVENT
DTSTART;TZID=America/New_York:20251212T170000
DTEND;TZID=America/New_York:20251214T220000
DTSTAMP:20260423T082356
CREATED:20251003T231055Z
LAST-MODIFIED:20251003T233835Z
UID:11208-1765558800-1765749600@wernutsny.com
SUMMARY:Fairgrounds Festival of Lights
DESCRIPTION:
URL:https://wernutsny.com/event/fairgrounds-festival-of-lights/
LOCATION:NY
CATEGORIES:Local Event
END:VEVENT
BEGIN:VEVENT
DTSTART;TZID=America/New_York:20251218T170000
DTEND;TZID=America/New_York:20251223T220000
DTSTAMP:20260423T082356
CREATED:20251003T234255Z
LAST-MODIFIED:20251003T234255Z
UID:11210-1766077200-1766527200@wernutsny.com
SUMMARY:Fairgrounds Festival of Lights
DESCRIPTION:
URL:https://wernutsny.com/event/fairgrounds-festival-of-lights-2/
LOCATION:Hamburg Fairgrounds\, 5600 Mckinley Parkway\, Hamburg\, NY\, 14075\, United States
CATEGORIES:Local Event
END:VEVENT
END:VCALENDAR