BEGIN:VCALENDAR
VERSION:2.0
PRODID:-//We R Nuts - ECPv6.15.20//NONSGML v1.0//EN
CALSCALE:GREGORIAN
METHOD:PUBLISH
X-WR-CALNAME:We R Nuts
X-ORIGINAL-URL:https://wernutsny.com
X-WR-CALDESC:Events for We R Nuts
REFRESH-INTERVAL;VALUE=DURATION:PT1H
X-Robots-Tag:noindex
X-PUBLISHED-TTL:PT1H
BEGIN:VTIMEZONE
TZID:America/New_York
BEGIN:DAYLIGHT
TZOFFSETFROM:-0500
TZOFFSETTO:-0400
TZNAME:EDT
DTSTART:20250309T070000
END:DAYLIGHT
BEGIN:STANDARD
TZOFFSETFROM:-0400
TZOFFSETTO:-0500
TZNAME:EST
DTSTART:20251102T060000
END:STANDARD
BEGIN:DAYLIGHT
TZOFFSETFROM:-0500
TZOFFSETTO:-0400
TZNAME:EDT
DTSTART:20260308T070000
END:DAYLIGHT
BEGIN:STANDARD
TZOFFSETFROM:-0400
TZOFFSETTO:-0500
TZNAME:EST
DTSTART:20261101T060000
END:STANDARD
BEGIN:DAYLIGHT
TZOFFSETFROM:-0500
TZOFFSETTO:-0400
TZNAME:EDT
DTSTART:20270314T070000
END:DAYLIGHT
BEGIN:STANDARD
TZOFFSETFROM:-0400
TZOFFSETTO:-0500
TZNAME:EST
DTSTART:20271107T060000
END:STANDARD
END:VTIMEZONE
BEGIN:VEVENT
DTSTART;TZID=America/New_York:20260227T160000
DTEND;TZID=America/New_York:20260227T210000
DTSTAMP:20260420T013355
CREATED:20251003T142954Z
LAST-MODIFIED:20251003T142954Z
UID:11190-1772208000-1772226000@wernutsny.com
SUMMARY:Cavalcade of Cars - Hamburg Event Center
DESCRIPTION:
URL:https://wernutsny.com/event/cavalcade-of-cars-hamburg-event-center/
LOCATION:Hamburg Fairgrounds\, The Event Center\, 5820 South Park Avenue\, Hamburg\, NY\, 14075\, United States
CATEGORIES:Local Event
END:VEVENT
END:VCALENDAR